BEGIN:VCALENDAR
VERSION:2.0
PRODID:-//Maacom - ECPv6.15.20//NONSGML v1.0//EN
CALSCALE:GREGORIAN
METHOD:PUBLISH
X-WR-CALNAME:Maacom
X-ORIGINAL-URL:https://themaacom.com
X-WR-CALDESC:Events for Maacom
REFRESH-INTERVAL;VALUE=DURATION:PT1H
X-Robots-Tag:noindex
X-PUBLISHED-TTL:PT1H
BEGIN:VTIMEZONE
TZID:UTC
BEGIN:STANDARD
TZOFFSETFROM:+0000
TZOFFSETTO:+0000
TZNAME:UTC
DTSTART:20210101T000000
END:STANDARD
END:VTIMEZONE
BEGIN:VEVENT
DTSTART;TZID=UTC:20251218T080000
DTEND;TZID=UTC:20251218T170000
DTSTAMP:20260423T133023
CREATED:20250616T101852Z
LAST-MODIFIED:20250709T124802Z
UID:3495-1766044800-1766077200@themaacom.com
SUMMARY:Ilchamus Social Housing Project
DESCRIPTION:Ilchamus Social Housing Project. \n \n 
URL:https://themaacom.com/event/ilchamus-social-housing-project/
LOCATION:Baringo South\, Kenya
END:VEVENT
BEGIN:VEVENT
DTSTART;TZID=UTC:20250603T080000
DTEND;TZID=UTC:20250603T170000
DTSTAMP:20260423T133023
CREATED:20250616T105240Z
LAST-MODIFIED:20250708T152652Z
UID:3502-1748937600-1748970000@themaacom.com
SUMMARY:MAACOM Youth Program
DESCRIPTION:In collaboration with KCB Foundation and Maasai Mara University\, MAACOM has sponsored 100 youth — 47 females and 53 males from the six sub-counties of Narok County to participate in a five-month vocational training program. The training focuses on Agribusiness\, Financial Literacy\, and Artificial Intelligence\, equipping the participants with practical and market-relevant skills.
URL:https://themaacom.com/event/maacom-youth-program/
LOCATION:Maasai Mara University\, Narok\, Kenya
ATTACH;FMTTYPE=image/jpeg:https://themaacom.com/wp-content/uploads/2025/06/youth15.jpg
END:VEVENT
BEGIN:VEVENT
DTSTART;TZID=UTC:20250403T080000
DTEND;TZID=UTC:20250403T170000
DTSTAMP:20260423T133023
CREATED:20250616T100655Z
LAST-MODIFIED:20250708T153754Z
UID:3487-1743667200-1743699600@themaacom.com
SUMMARY:Sajiloni Maa Unity Forum
DESCRIPTION:MAACOM under the leadership of Senator Ledama Ole Kina organized a Mega Maa Unity Forum in Kajiado County on 3 rd April 2025. The meeting was held at Eiti Village\, Sajiloni Location in Dalalekutuk Ward. \nThe objective of the meeting was to continue a conversation on Maa Unity as well as promote economic empowerment among women and youth. The Senator cited that the Maa Community has been lagging behind in development for many years due to lack a unified vision. He emphasized the need to chart a new path that prioritizes the needs of the community and address long standing unresolved injustices that have hindered our progress as a community overtime. He said that this can only be achieved if the community is united and voice their needs and concerns in unison. \nTo sum it up\, the MAACOM Patron\, Senator Ledama Ole Kina supported Vulnerable households with sheep and goats\, the youth received bulls for livestock improvement\, and he committed put up a milk cooling plant where women will sell their milk at reasonable prices. He urged other leaders to prioritize economic empowerment of the most vulnerable as this is the only sure way of getting out of poverty. \n\n			\n				\n			\n			\n				\n			\n			\n				\n			\n			\n				\n			\n			\n				\n			\n			\n				\n			\n			\n				\n			\n			\n				\n			\n			\n				\n			\n			\n				\n			\n			\n				\n			\n			\n				\n			\n			\n				\n			\n			\n				\n			\n			\n				\n			\n			\n				\n			\n		\n\n 
URL:https://themaacom.com/event/sajiloni-maa-unity-forum/
LOCATION:Sajiloni Location\, Kajiado\, Kenya
ATTACH;FMTTYPE=image/jpeg:https://themaacom.com/wp-content/uploads/2025/06/sajiloni16-1-e1751989052107.jpg
END:VEVENT
BEGIN:VEVENT
DTSTART;TZID=UTC:20220712T080000
DTEND;TZID=UTC:20220715T170000
DTSTAMP:20260423T133023
CREATED:20240712T090008Z
LAST-MODIFIED:20250708T153525Z
UID:2388-1657612800-1657904400@themaacom.com
SUMMARY:Maacom Women Economic Forum
DESCRIPTION:MAACOM organized an annual forum that brought together women from Maa-speaking communities across Kenya. The aim of the forum was to raising awareness on economically viable opportunities within the arid and semi-arid regions they inhabit. The gatherings also serve as a platform to showcase existing initiatives and resources that women can take advantage of for economic advancement. \nBeyond economic empowerment\, the forum created a space for reflection\, allowing women to identify priority investment areas and collaboratively develop strategies to address shared challenges. \nThe outcome of the event was the formation of a network of women from all seven Maa-speaking counties\, a platform for women to learn and become economically empowered. It promotes collective action\, encouraging women to strategize\, set priorities\, and craft sustainable solutions for their communities. MAACOM endeavors to organize such forums annually for continuous learning and growth of women enterprises. \n\n			\n				\n			\n			\n				\n			\n			\n				\n			\n			\n				\n			\n			\n				\n			\n			\n				\n			\n			\n				\n			\n			\n				\n			\n			\n				\n			\n			\n				\n			\n			\n				\n			\n			\n				\n			\n		\n\n 
URL:https://themaacom.com/event/maacom2022/
LOCATION:Enkanasa Village\, Narok\, Kenya
ATTACH;FMTTYPE=image/jpeg:https://themaacom.com/wp-content/uploads/2022/07/PHOTO-2022-07-18-17-37-44_2.jpg
ORGANIZER;CN="Maacom 2022":MAILTO:info@themaacom.com
END:VEVENT
END:VCALENDAR